BEGIN:VCALENDAR
VERSION:2.0
PRODID:-//Associació Bíblica de Catalunya - ECPv6.15.20//NONSGML v1.0//EN
CALSCALE:GREGORIAN
METHOD:PUBLISH
X-WR-CALNAME:Associació Bíblica de Catalunya
X-ORIGINAL-URL:https://www.abcat.cat
X-WR-CALDESC:Esdeveniments per Associació Bíblica de Catalunya
REFRESH-INTERVAL;VALUE=DURATION:PT1H
X-Robots-Tag:noindex
X-PUBLISHED-TTL:PT1H
BEGIN:VTIMEZONE
TZID:Europe/Helsinki
BEGIN:DAYLIGHT
TZOFFSETFROM:+0200
TZOFFSETTO:+0300
TZNAME:EEST
DTSTART:20240331T010000
END:DAYLIGHT
BEGIN:STANDARD
TZOFFSETFROM:+0300
TZOFFSETTO:+0200
TZNAME:EET
DTSTART:20241027T010000
END:STANDARD
BEGIN:DAYLIGHT
TZOFFSETFROM:+0200
TZOFFSETTO:+0300
TZNAME:EEST
DTSTART:20250330T010000
END:DAYLIGHT
BEGIN:STANDARD
TZOFFSETFROM:+0300
TZOFFSETTO:+0200
TZNAME:EET
DTSTART:20251026T010000
END:STANDARD
BEGIN:DAYLIGHT
TZOFFSETFROM:+0200
TZOFFSETTO:+0300
TZNAME:EEST
DTSTART:20260329T010000
END:DAYLIGHT
BEGIN:STANDARD
TZOFFSETFROM:+0300
TZOFFSETTO:+0200
TZNAME:EET
DTSTART:20261025T010000
END:STANDARD
END:VTIMEZONE
BEGIN:VEVENT
DTSTART;TZID=Europe/Helsinki:20250522T140000
DTEND;TZID=Europe/Helsinki:20250524T140000
DTSTAMP:20260425T172857
CREATED:20250502T222501Z
LAST-MODIFIED:20250502T222501Z
UID:3786-1747922400-1748095200@www.abcat.cat
SUMMARY:Simposi Internacional ​Humboldt / Regensburg / AUSP
DESCRIPTION:The baptism of Jesus and early christian traditions about baptism\n\n\n2025\, maig 22-24 \n\n\n\nC/Diputació 231\, Barcelona · Aula Magna\n\n\n\n\nOrganisatizació: \n\n\n\n​- Prof. Dr. Armand Puig i Tàrrech\, Ateneu Universitari Sant Pacià Barcelona\n​- Prof. Dr. Tobias Nicklas\, Centre for Advanced Studies “Beyond Canon”\, Universität of Regensburg\n​- Prof. Dr. Jens Schröter\, Chair of New Testament Studies and Ancient Christian Apocrypha\, Humboldt Universität zu Berlin\nMés informació i inscripcions
URL:https://www.abcat.cat/event/simposi-internacional-humboldt-regensburg-ausp/
LOCATION:Ateneu Universitari Sant Pacià\, Edifici del Seminari Conciliar de Barcelona - C/ Diputació 231\, Barcelona
END:VEVENT
END:VCALENDAR