BEGIN:VCALENDAR
VERSION:2.0
PRODID:-//Associació Bíblica de Catalunya - ECPv6.15.20//NONSGML v1.0//EN
CALSCALE:GREGORIAN
METHOD:PUBLISH
X-ORIGINAL-URL:https://www.abcat.cat
X-WR-CALDESC:Esdeveniments per Associació Bíblica de Catalunya
REFRESH-INTERVAL;VALUE=DURATION:PT1H
X-Robots-Tag:noindex
X-PUBLISHED-TTL:PT1H
BEGIN:VTIMEZONE
TZID:Europe/Helsinki
BEGIN:DAYLIGHT
TZOFFSETFROM:+0200
TZOFFSETTO:+0300
TZNAME:EEST
DTSTART:20240331T010000
END:DAYLIGHT
BEGIN:STANDARD
TZOFFSETFROM:+0300
TZOFFSETTO:+0200
TZNAME:EET
DTSTART:20241027T010000
END:STANDARD
BEGIN:DAYLIGHT
TZOFFSETFROM:+0200
TZOFFSETTO:+0300
TZNAME:EEST
DTSTART:20250330T010000
END:DAYLIGHT
BEGIN:STANDARD
TZOFFSETFROM:+0300
TZOFFSETTO:+0200
TZNAME:EET
DTSTART:20251026T010000
END:STANDARD
BEGIN:DAYLIGHT
TZOFFSETFROM:+0200
TZOFFSETTO:+0300
TZNAME:EEST
DTSTART:20260329T010000
END:DAYLIGHT
BEGIN:STANDARD
TZOFFSETFROM:+0300
TZOFFSETTO:+0200
TZNAME:EET
DTSTART:20261025T010000
END:STANDARD
END:VTIMEZONE
BEGIN:VEVENT
DTSTART;VALUE=DATE:20250126
DTEND;VALUE=DATE:20250202
DTSTAMP:20260425T141057
CREATED:20241002T163537Z
LAST-MODIFIED:20250115T101419Z
UID:2716-1737849600-1738454399@www.abcat.cat
SUMMARY:Diumenge de la Paraula i IX Setmana de la Bíblia
DESCRIPTION:​​El proper diumenge 26 de gener\, tercer diumenge del temps de durant l’any\, celebrarem el «Diumenge de la Paraula» i tot seguit la «IX Setmana de la Bíblia» (del 26 de gener a l’1 de febrer 2025). \n\nPer viure l’edició d’enguany del Diumenge de la Paraula de Déu\, el Papa Francesc ha escollit com a lema les paraules del Salmista: «Confio en la teva Paraula» (Sl 119\,74).\n\n\n \n«És un crit d’esperança: la persona humana\, en el moment d’angoixa\, de tribulació\, de confusió\, clama a Déu i posa en ell tota la seva esperança»\n \n\n\nTrobareu tota la informació a:\nhttps://www.abcat.cat/…/diumenge-de-la-paraula-i-ix…/\nhttp://www.setmanadelabiblia.cat/\n\n\n \nUs animem a participar-hi!
URL:https://www.abcat.cat/event/diumenge-de-la-paraula/
END:VEVENT
END:VCALENDAR